BEGIN:VCALENDAR
VERSION:2.0
PRODID:-//eventon.com NONSGML v1.0//EN
CALSCALE:GREGORIAN
METHOD:PUBLISH
BEGIN:VEVENT
UID:69eb5758e4a3f
DTSTAMP:20260424T114320Z
DTSTART:20250429T180000Z
DTEND:20250429T235000Z
LOCATION:
SUMMARY:Informations- & Austauschtreffen
DESCRIPTION:Dienstag\,  29. April 2025\,  18 UhrGasthof SeitnerVillacherstr
 aße 11\,  9560 Feldkirchen Liebe Obfrau\, liebe Mitglieder der Trachtengru
 ppen! Wir möchten Sie und eine Abordnung Ihres Vereines hiermit sehr herzl
 ich zu einem Informations- und Austauschtreffen der Trachtengruppen im Bezi
 rk Feldkirchen einladen. Wir werden über aktuelle Projekte des Kärntner B
 ildungswerks informieren und freuen uns auf[..]\nhttps://dev.bildungswerk-k
 tn.at/events/informations-austauschtreffen/
URL:https://dev.bildungswerk-ktn.at/events/informations-austauschtreffen/
END:VEVENT
END:VCALENDAR