BEGIN:VCALENDAR
VERSION:2.0
PRODID:-//eventon.com NONSGML v1.0//EN
CALSCALE:GREGORIAN
METHOD:PUBLISH
BEGIN:VEVENT
UID:69e6046fa4b1f
DTSTAMP:20260420T104815Z
DTSTART:20250912T130000Z
DTEND:20250912T160000Z
LOCATION:
SUMMARY:Smartphone sicher nutzen: Ein Workshop für digitale Senior:innen
DESCRIPTION:Freitag\,  12. September 202513.00 - 16.00 UhrSitzungssaal Geme
 inde Velden am WörtherseeSeecorso 2\,  9220 Velden am Wörthersee Der Work
 shop bietet Ihnen die Möglichkeit\,  Ihren Umgang mit dem eigenen Smartpho
 nes zu verbessern. Zunächst werden grundlegende Funktionen von Smartphones
  erklärt\,  wie das Entsperren\,  die Navigation durch Menüs und das Verw
 alten von Apps. Dann[..]\nhttps://dev.bildungswerk-ktn.at/events/smartphone
 -sicher-nutzen-velden/
URL:https://dev.bildungswerk-ktn.at/events/smartphone-sicher-nutzen-velden/
END:VEVENT
END:VCALENDAR