BEGIN:VCALENDAR
VERSION:2.0
PRODID:-//eventon.com NONSGML v1.0//EN
CALSCALE:GREGORIAN
METHOD:PUBLISH
BEGIN:VEVENT
UID:69e617b8de041
DTSTAMP:20260420T121032Z
DTSTART:20251117T090000Z
DTEND:20251117T130000Z
LOCATION:
SUMMARY:Digitale Inhalte die begeistern
DESCRIPTION:Ein Workshop für ehrenamtliche digitale Einsteiger:innen 17.11
 . | 24.11. | 01.12. - jeweils von 9 bis 13 UhrSeniorenbüro\,  Lidmanskygas
 se 22\,  9210 Klagenfurt Die Workshopreihe vermittelt den Teilnehmer:innen 
 Kenntnisse und Fähigkeiten\,  um digitale Inhalte für den eigenen Verein/
 die eigene Initiativgruppe zu konzipieren und zu erstellen. Der Fokus liegt
  auf einem sicheren[..]\nhttps://dev.bildungswerk-ktn.at/events/digitale-in
 halte-klagenfurt/
URL:https://dev.bildungswerk-ktn.at/events/digitale-inhalte-klagenfurt/
END:VEVENT
END:VCALENDAR