BEGIN:VCALENDAR
VERSION:2.0
PRODID:-//eventon.com NONSGML v1.0//EN
CALSCALE:GREGORIAN
METHOD:PUBLISH
BEGIN:VEVENT
UID:69e60465de085
DTSTAMP:20260420T104805Z
DTSTART:20250626T140000Z
DTEND:20250626T170000Z
LOCATION:
SUMMARY:Smartphone sicher nutzen: Ein Workshop für digitale Senior:innen
DESCRIPTION:Donnerstag\,  26. Juni 202514.00 - 17.00 UhrSitzungssaal der Ge
 meinde GallizienWildenstein 100/2 Der Workshop bietet Ihnen die Möglichkei
 t\,  Ihren Umgang mit dem eigenen Smartphones zu verbessern. Zunächst werd
 en grundlegende Funktionen von Smartphones erklärt\,  wie das Entsperren\,
   die Navigation durch Menüs und das Verwalten von Apps. Dann folgt eine a
 usführliche Einführung in[..]\nhttps://dev.bildungswerk-ktn.at/events/sma
 rtphone-sicher-nutzen-gallizien/
URL:https://dev.bildungswerk-ktn.at/events/smartphone-sicher-nutzen-gallizien/
END:VEVENT
END:VCALENDAR