BEGIN:VCALENDAR
VERSION:2.0
PRODID:-//eventon.com NONSGML v1.0//EN
CALSCALE:GREGORIAN
METHOD:PUBLISH
BEGIN:VEVENT
UID:69eb58646c0ed
DTSTAMP:20260424T114748Z
DTSTART:20260415T180000Z
DTEND:20260415T235000Z
LOCATION:
SUMMARY:Beikraut - ReiÃŸ es aus und mach was draus
DESCRIPTION:Mittwoch\,  15. April\,  18 UhrlebensRAUM Villach\,  Postgasse 
 6 Unser Garten lÃ¤sst eine freie ErdflÃ¤che nicht lange ungenutzt. Ohne uns
 er Zutun wachsen zwischen unseren Beeten Pflanzen\,  die wir voreilig als â
 €žungebetenâ€œ bezeichnen. Dabei steckt in diesen Pflanzen mehr\,  als man 
 glaubt. FrÃ¼her nutzte man diese GewÃ¤chse ganz selbstverstÃ¤ndlich\,  anst
 att sie zu[..]\nhttps://dev.bildungswerk-ktn.at/events/beikraut/
URL:https://dev.bildungswerk-ktn.at/events/beikraut/
END:VEVENT
END:VCALENDAR