BEGIN:VCALENDAR
VERSION:2.0
PRODID:-//eventon.com NONSGML v1.0//EN
CALSCALE:GREGORIAN
METHOD:PUBLISH
BEGIN:VEVENT
UID:69eb5862d0e00
DTSTAMP:20260424T114746Z
DTSTART:20260527T180000Z
DTEND:20260527T235000Z
LOCATION:
SUMMARY:Wenig Platz\,  viel Natur - Ideen für Balkone\,  kleine Beete & Gräber
DESCRIPTION:Mittwoch\,  27. Mai\,  18 UhrlebensRAUM Villach\,  Postgasse 6 
 Auch auf kleinstem Raum lassen sich wunderschöne\,  naturnahe und pflegele
 ichte Pflanzkonzepte umsetzen.Egal ob sonnig oder schattig\,  in Töpfen od
 er im gewachsenen Boden\,  für Naschkatzen\,  Bienenfans\, Winter- oder Ba
 lkongärtner:innen: für jede noch so kleine Fläche werden im Vortrag Idee
 n zur Gestaltungund nachhaltigen Bewirtschaftung und[..]\nhttps://dev.bildu
 ngswerk-ktn.at/events/wenig-platz-viel-natur/
URL:https://dev.bildungswerk-ktn.at/events/wenig-platz-viel-natur/
END:VEVENT
END:VCALENDAR