BEGIN:VCALENDAR
VERSION:2.0
PRODID:-//eventon.com NONSGML v1.0//EN
CALSCALE:GREGORIAN
METHOD:PUBLISH
BEGIN:VEVENT
UID:69e61dbd2fd76
DTSTAMP:20260420T123613Z
DTSTART:20250208T090000Z
DTEND:20250208T120000Z
LOCATION:
SUMMARY:Repair Café Hermagor
DESCRIPTION:Was tun mit einem wackeligen Hocker oder einem defekten Toaster
 ? Gemeinsam mit Expert:innen reparieren\,  statt wegwerfen! Samstag\,  08
 . Februar 2025\,  09 - 12 UhrMittlerer StadtsaalWulfeniaplatz 1\,  9620 Her
 magor REPAIR CAFÉ bedeutet…gemeinsam kaputte Dinge reparieren\,  kompete
 nte Hilfestellung\,  Begegnung und einander inspirieren! Rückfragen: Örtl
 iches Bildungswerk Hermagorbw-hermagor@bildungswerk-ktn.at0660 7630284\nhtt
 ps://dev.bildungswerk-ktn.at/events/repair-cafe-hermagor-4/
URL:https://dev.bildungswerk-ktn.at/events/repair-cafe-hermagor-4/
END:VEVENT
END:VCALENDAR