BEGIN:VCALENDAR
VERSION:2.0
PRODID:-//eventon.com NONSGML v1.0//EN
CALSCALE:GREGORIAN
METHOD:PUBLISH
BEGIN:VEVENT
UID:69e8a8fe74996
DTSTAMP:20260422T105454Z
DTSTART:20250429T180000Z
DTEND:20250429T190000Z
LOCATION:
SUMMARY:Online Namenswerkstatt für den Bezirk Spittal
DESCRIPTION:Das Kärntner Bildungswerk führt gemeinsam mit dem Land Kärnt
 en ein Projekt zum geografischen Namensgut durch. Ziel des Projekts ist\,  
 lokal verankertes Wissen zu Orts-\,  Feld-\,  Flur-\,  Gewässer-\,  Vulgar
 namen zu sammeln und zu dokumentieren. Wir laden Sie recht herzlich zur Mit
 arbeit ein. 29. April 2025 18:00 -19.00 Uhr\,  via ZoomZoom-Meeting beitret
 enMeeting-ID:[..]\nhttps://dev.bildungswerk-ktn.at/events/online-namenswerk
 statt-fuer-den-bezirk-spittal/var/event_access
URL:https://dev.bildungswerk-ktn.at/events/online-namenswerkstatt-fuer-den-bezirk-spittal/var/event_access
END:VEVENT
END:VCALENDAR