BEGIN:VCALENDAR
VERSION:2.0
PRODID:-//eventon.com NONSGML v1.0//EN
CALSCALE:GREGORIAN
METHOD:PUBLISH
BEGIN:VEVENT
UID:69e8ac4b04237
DTSTAMP:20260422T110859Z
DTSTART:20250225T180000Z
DTEND:20250225T235000Z
LOCATION:
SUMMARY:Präsentation Gemeindetopothek Gallizien
DESCRIPTION:Dienstag\,  25. Februar\,  18 Uhr\,  Gemeindeamt GallizienMittw
 och\,  26. Februar\,  18 Uhr\,  Volksschule MöchlingDonnerstag\,  27. Febr
 uar\,  18 Uhr\,  Rüsthaus Abtei Bitte bringen Sie gerne Fotos und interess
 ante Dokumente aus ihren privaten Beständen mit! Was ist eine Topothek?Die
  Topothek ist ein regionalhistorisches Online-Archiv\,  das für die gesamt
 e Bevölkerungzugänglich ist. Ablauf TopothekentreffenBei den[..]\nhttps:/
 /dev.bildungswerk-ktn.at/events/praesentation-gemeindetopothek-gallizien/
URL:https://dev.bildungswerk-ktn.at/events/praesentation-gemeindetopothek-gallizien/
END:VEVENT
END:VCALENDAR